BEGIN:VCALENDAR
VERSION:2.0
PRODID:-//wp-events-plugin.com//7.2.3.1//EN
BEGIN:VEVENT
UID:52@cheynewalkclub.co.uk
DTSTART:20250504T123000Z
DTEND:20250504T150000Z
DTSTAMP:20250404T090132Z
URL:https://cheynewalkclub.co.uk/events/ve-day-lunch
SUMMARY:VE Day 'Best of British' Lunch
DESCRIPTION:\n\nWe're proud to be able to offer members and guests the oppo
 rtunity to join us for a Best of British themed Sunday lunch to commemorat
 e 80 years since Allied forces declared Victory in Europe\, signalling the
  end of World War II.\n\nJoin us to enjoy the following:\n\n\n\nStarters\n
 \n\n\n\n*Homemade Black Pudding Scotch Eggs served with a fresh side salad
  £6.75\n*Pea &amp\; Ham soup served with crusty bread £6.50\n*Farmhouse 
 Pâté served with a fresh side salad\, crusty bread and red onion chutney
  £6.95\n\n\n\n\nMains\n\n\n\n\n*British Topside of Roast Beef served with
  roast potatoes\, parsnips\, carrots\, green beans\, a Yorkshire pudding a
 nd red wine gravy £17.95\n*Butchers Pork Sausages served with creamy mash
 ed potato\, carrots and green beans with a red wine gravy £15.50\n*Hand B
 attered Cod and chunky chips served with mushy peas and tartare sauce £16
 .50\n*Vegetarian Glamorgan sausage made from leek and cheese and served wi
 th creamy mashed potato and seasonal vegetables £14.25\n\n\n\n\nDesserts\
 n\n\n\n\n*Eton Mess with fresh strawberries\, cream and meringues £7.50\n
 *Victoria Sponge with cream £5.75\n*British Cheeseboard and Biscuits £8.
 25\n\n\n\nBook your table below:
CATEGORIES:Sunday Lunch
LOCATION:Cheyne Walk Club\, 2 Cheyne Walk\, Northampton\, NN1 5PU\, United 
 Kingdom
X-APPLE-STRUCTURED-LOCATION;VALUE=URI;X-ADDRESS=2 Cheyne Walk\, Northampton
 \, NN1 5PU\, United Kingdom;X-APPLE-RADIUS=100;X-TITLE=Cheyne Walk Club:ge
 o:0,0
END:VEVENT
END:VCALENDAR