BEGIN:VCALENDAR
VERSION:2.0
PRODID:-//wp-events-plugin.com//7.2.3.1//EN
BEGIN:VEVENT
UID:62@cheynewalkclub.co.uk
DTSTART:20260426T130000Z
DTEND:20260426T180000Z
DTSTAMP:20260409T110837Z
URL:https://cheynewalkclub.co.uk/events/sunday-lunch-26th-april
SUMMARY:Sunday Lunch - 26th April
DESCRIPTION:\n\nSunday Lunch at The Dining Room @ Cheyne Walk\n\nFollowing 
 valuable feedback and thoughtful reviews from our members and guests\, we
 ’re delighted to introduce an enhanced Sunday Lunch experience at The Di
 ning Room at Cheyne Walk\, in collaboration with The Munch Hut.\nOur refre
 shed menu brings together the best of comforting favourites and timeless c
 lassics. Alongside traditional Sunday roast options\, you’ll now find he
 arty dishes such as homemade pies\, rich lasagne\, and slow-cooked kleftic
 o - perfect for those seeking something a little different while still enj
 oying the warmth of a Sunday gathering.\n\nWhether you’re joining us for
  a classic roast or exploring one of our new additions\, our enhanced Sund
 ay menu is designed to offer something for everyone—bringing comfort\, f
 lavour\, and a touch of indulgence to the end of your week.\n\nTo ensure t
 he best possible experience and to keep pricing as reasonable as possible\
 , pre-orders are required.\nBookings for the 26th April Sunday Lunch close
  on Wednesday 22nd April\n\nVarious booking times are available. To book a
  table and confirm your menu choices\, please call 07876 012775.
CATEGORIES:Sunday Lunch
LOCATION:Cheyne Walk Club\, 2 Cheyne Walk\, Northampton\, NN1 5PU\, United 
 Kingdom
X-APPLE-STRUCTURED-LOCATION;VALUE=URI;X-ADDRESS=2 Cheyne Walk\, Northampton
 \, NN1 5PU\, United Kingdom;X-APPLE-RADIUS=100;X-TITLE=Cheyne Walk Club:ge
 o:0,0
END:VEVENT
END:VCALENDAR