BEGIN:VCALENDAR
VERSION:2.0
PRODID:-//wp-events-plugin.com//7.2.3.1//EN
BEGIN:VEVENT
UID:63@cheynewalkclub.co.uk
DTSTART:20260730T193000Z
DTEND:20260730T220000Z
DTSTAMP:20260331T142452Z
URL:https://cheynewalkclub.co.uk/events/comedy-night-work-in-progress
SUMMARY:Comedy Night - Work in Progress
DESCRIPTION:\nJoin us for a night of comedy in conjunction with local comed
 y promoters The Comedy Crate on Thursday 30th July as part of the Northamp
 ton Comedy Festival.\nWe're thrilled to be playing host to two stand-up co
 medians\, Phil Nichol and Paul Tonkinson\, who will each be bringing their
  Work in Progress shows to the Cheyne Walk Club.\n\nThe bar will be open f
 rom 5:30pm\, and the show starts at 7:30pm.\n\nTickets cost £12 (plus boo
 king fee) and are available to order direct from The Comedy Crate here.\n\
 n\n\n&nbsp\;
CATEGORIES:Comedy
LOCATION:Cheyne Walk Club\, 2 Cheyne Walk\, Northampton\, NN1 5PU\, United 
 Kingdom
X-APPLE-STRUCTURED-LOCATION;VALUE=URI;X-ADDRESS=2 Cheyne Walk\, Northampton
 \, NN1 5PU\, United Kingdom;X-APPLE-RADIUS=100;X-TITLE=Cheyne Walk Club:ge
 o:0,0
END:VEVENT
END:VCALENDAR